BEGIN:VCALENDAR
VERSION:2.0
PRODID:-//Appalachian Sustainable Development - ECPv6.15.20//NONSGML v1.0//EN
CALSCALE:GREGORIAN
METHOD:PUBLISH
X-WR-CALNAME:Appalachian Sustainable Development
X-ORIGINAL-URL:https://asdevelop.org
X-WR-CALDESC:Events for Appalachian Sustainable Development
REFRESH-INTERVAL;VALUE=DURATION:PT1H
X-Robots-Tag:noindex
X-PUBLISHED-TTL:PT1H
BEGIN:VTIMEZONE
TZID:America/New_York
BEGIN:DAYLIGHT
TZOFFSETFROM:-0500
TZOFFSETTO:-0400
TZNAME:EDT
DTSTART:20220313T070000
END:DAYLIGHT
BEGIN:STANDARD
TZOFFSETFROM:-0400
TZOFFSETTO:-0500
TZNAME:EST
DTSTART:20221106T060000
END:STANDARD
BEGIN:DAYLIGHT
TZOFFSETFROM:-0500
TZOFFSETTO:-0400
TZNAME:EDT
DTSTART:20230312T070000
END:DAYLIGHT
BEGIN:STANDARD
TZOFFSETFROM:-0400
TZOFFSETTO:-0500
TZNAME:EST
DTSTART:20231105T060000
END:STANDARD
BEGIN:DAYLIGHT
TZOFFSETFROM:-0500
TZOFFSETTO:-0400
TZNAME:EDT
DTSTART:20240310T070000
END:DAYLIGHT
BEGIN:STANDARD
TZOFFSETFROM:-0400
TZOFFSETTO:-0500
TZNAME:EST
DTSTART:20241103T060000
END:STANDARD
END:VTIMEZONE
BEGIN:VEVENT
DTSTART;TZID=America/New_York:20230720T090000
DTEND;TZID=America/New_York:20230720T153000
DTSTAMP:20260419T231410
CREATED:20230503T154933Z
LAST-MODIFIED:20230503T154936Z
UID:10000067-1689843600-1689867000@asdevelop.org
SUMMARY:Forest Farming Fundamentals: Agroforestry Trainings for Natural Resource Professionals
DESCRIPTION:Forest Farming FundamentalsJuly 20\, 2023 • 9:00 am – 3:30 pmVT Kentland Farm • 5250 Whitethorne Rd\, Blacksburg\, VAFREE • Rain or Shine • Lunch Included \n\n\n\nCalling all natural resource professionals who work with land managers! We are offering an agroforestry training program designed just for you\, to help expand your knowledge of agroforestry so you can better serve your clients and community. \n\n\n\nThis program will offer a series of in-person workshops combined with online courses\, all designed to be a la carte\, so you attend whichever sessions you choose. 
URL:https://asdevelop.org/event/forest-farming-fundamentals-agroforestry-trainings-for-natural-resource-professionals-2/
LOCATION:VT Kentland Farm\, 5250 Whitethorne Rd\, Blacksburg\, Virginia\, United States
CATEGORIES:Agroforestry
ATTACH;FMTTYPE=image/png:https://asdevelop.org/wp-content/uploads/2023/05/featuredthumbnail-website.png
END:VEVENT
END:VCALENDAR