BEGIN:VCALENDAR
VERSION:2.0
PRODID:-//Appalachian Sustainable Development - ECPv6.15.20//NONSGML v1.0//EN
CALSCALE:GREGORIAN
METHOD:PUBLISH
X-ORIGINAL-URL:https://asdevelop.org
X-WR-CALDESC:Events for Appalachian Sustainable Development
REFRESH-INTERVAL;VALUE=DURATION:PT1H
X-Robots-Tag:noindex
X-PUBLISHED-TTL:PT1H
BEGIN:VTIMEZONE
TZID:America/New_York
BEGIN:DAYLIGHT
TZOFFSETFROM:-0500
TZOFFSETTO:-0400
TZNAME:EDT
DTSTART:20240310T070000
END:DAYLIGHT
BEGIN:STANDARD
TZOFFSETFROM:-0400
TZOFFSETTO:-0500
TZNAME:EST
DTSTART:20241103T060000
END:STANDARD
BEGIN:DAYLIGHT
TZOFFSETFROM:-0500
TZOFFSETTO:-0400
TZNAME:EDT
DTSTART:20250309T070000
END:DAYLIGHT
BEGIN:STANDARD
TZOFFSETFROM:-0400
TZOFFSETTO:-0500
TZNAME:EST
DTSTART:20251102T060000
END:STANDARD
BEGIN:DAYLIGHT
TZOFFSETFROM:-0500
TZOFFSETTO:-0400
TZNAME:EDT
DTSTART:20260308T070000
END:DAYLIGHT
BEGIN:STANDARD
TZOFFSETFROM:-0400
TZOFFSETTO:-0500
TZNAME:EST
DTSTART:20261101T060000
END:STANDARD
END:VTIMEZONE
BEGIN:VEVENT
DTSTART;TZID=America/New_York:20250917T180000
DTEND;TZID=America/New_York:20250917T200000
DTSTAMP:20260424T073712
CREATED:20250724T204213Z
LAST-MODIFIED:20250728T134838Z
UID:10000212-1758132000-1758139200@asdevelop.org
SUMMARY:ASD Veteran Coalition Meeting
DESCRIPTION:Are you a military veteran? If so\, we’d love to have you attend our ASD Veteran Coalition meeting tonight at 6 pm. These recur every 3rd Wednesday – why not be a regular?  \n\n\n\nLocation:  \n\n\n\nThese meetings are generously hosted free of charge by Michael Waltrip Brewing\, 221 Moore St\, Bristol\, VA 24201. Meetings are held in the room upstairs. \n\n\n\nGoal:  \n\n\n\nStrengthen the veteran farming community by fostering meaningful connections\, sharing practical knowledge and resources\, and identifying collaborative opportunities that support the success and sustainability of veteran-led agricultural operations. \n\n\n\nAwesome Extras: \n\n\n\n\nFree appetizers and soft drinks\n\n\n\nGreat company!\n\n\n\nCheck out our programs and services for veterans – here
URL:https://asdevelop.org/event/asd-veteran-coalition-meeting/2025-09-17/
LOCATION:Michael Waltrip Brewing\, 221 Moore Street\, Bristol\, Virginia\, 24202
CATEGORIES:Veteran Outreach
END:VEVENT
BEGIN:VEVENT
DTSTART;TZID=America/New_York:20250925T090000
DTEND;TZID=America/New_York:20250925T143000
DTSTAMP:20260424T073712
CREATED:20250408T193740Z
LAST-MODIFIED:20250505T201912Z
UID:10000194-1758790800-1758810600@asdevelop.org
SUMMARY:Agroforestry Farm Tour series: SILVOPASTURE AT CANEY FORK FARM
DESCRIPTION:PLEASE NOTE: THIS TOUR LOCATION IS ON CENTRAL TIME. (9 AM CST = 10 AM EST) \n\n\n\nJoin us for a tour of a working silvopasture system where sheep rotationally graze a mix of grass species. This system supports soil health\, forage growth\, and livestock while contributing to carbon sequestration. \n\n\n\nParticipants will see tree plantings designed for biodiversity\, habitat\, and forage benefits. The site includes hard and soft mast-producing trees that support wildlife and grazing animals. The majority of the trees are chestnuts\, but many more species are included as well. Trees integrated into the pasture provide shade for sheep\, improved soil carbon storage\, and enhanced forage production.  \n\n\n\nWe will discuss the management of multi-species tree plantings and forage systems\, focusing on their effects on soil fertility\, pasture resilience\, and productivity. This tour is for farmers\, land managers\, and researchers. \n\n\n\nRegistration is required. Registration coming soon!
URL:https://asdevelop.org/event/agroforestry-farm-tour-series-silvopasture-at-caney-fork-farm/
LOCATION:Caney Fork Farm\, 7 Gibbs Circle\, Carthage\, Tennessee\, 37030\, United States
CATEGORIES:Agroforestry
END:VEVENT
BEGIN:VEVENT
DTSTART;TZID=America/New_York:20250929T180000
DTEND;TZID=America/New_York:20250929T200000
DTSTAMP:20260424T073712
CREATED:20250416T142500Z
LAST-MODIFIED:20250505T201903Z
UID:10000200-1759168800-1759176000@asdevelop.org
SUMMARY:Grow Your Own Intermediate Class: Advanced Season Extension
DESCRIPTION:Learn about techniques used to extend the growing season for plants. This allows gardeners to grow crops for a longer period of time\, either earlier in the spring or later into the fall. \n\n\n\nThis class is virtual and held through Zoom\, \n\n\n\nYou can register here.
URL:https://asdevelop.org/event/grow-your-own-intermediate-class-advanced-season-extension/
CATEGORIES:Grow Your Own
END:VEVENT
BEGIN:VEVENT
DTSTART;TZID=America/New_York:20250930T180000
DTEND;TZID=America/New_York:20250930T200000
DTSTAMP:20260424T073712
CREATED:20250417T135930Z
LAST-MODIFIED:20250505T201856Z
UID:10000207-1759255200-1759262400@asdevelop.org
SUMMARY:Grow Your Own Beginner Class: Season Extension
DESCRIPTION:Learn about techniques used to extend the growing season for plants. This allows gardeners to grow crops for a longer period of time\, either earlier in the spring or later into the fall. \n\n\n\nThis is a virtual class and will be held through Zoom. \n\n\n\nYou can register here.
URL:https://asdevelop.org/event/grow-your-own-beginner-class-season-extension/
CATEGORIES:Grow Your Own
END:VEVENT
END:VCALENDAR