BEGIN:VCALENDAR
VERSION:2.0
PRODID:-//Appalachian Sustainable Development - ECPv6.15.20//NONSGML v1.0//EN
CALSCALE:GREGORIAN
METHOD:PUBLISH
X-ORIGINAL-URL:https://asdevelop.org
X-WR-CALDESC:Events for Appalachian Sustainable Development
REFRESH-INTERVAL;VALUE=DURATION:PT1H
X-Robots-Tag:noindex
X-PUBLISHED-TTL:PT1H
BEGIN:VTIMEZONE
TZID:America/New_York
BEGIN:DAYLIGHT
TZOFFSETFROM:-0500
TZOFFSETTO:-0400
TZNAME:EDT
DTSTART:20230312T070000
END:DAYLIGHT
BEGIN:STANDARD
TZOFFSETFROM:-0400
TZOFFSETTO:-0500
TZNAME:EST
DTSTART:20231105T060000
END:STANDARD
BEGIN:DAYLIGHT
TZOFFSETFROM:-0500
TZOFFSETTO:-0400
TZNAME:EDT
DTSTART:20240310T070000
END:DAYLIGHT
BEGIN:STANDARD
TZOFFSETFROM:-0400
TZOFFSETTO:-0500
TZNAME:EST
DTSTART:20241103T060000
END:STANDARD
BEGIN:DAYLIGHT
TZOFFSETFROM:-0500
TZOFFSETTO:-0400
TZNAME:EDT
DTSTART:20250309T070000
END:DAYLIGHT
BEGIN:STANDARD
TZOFFSETFROM:-0400
TZOFFSETTO:-0500
TZNAME:EST
DTSTART:20251102T060000
END:STANDARD
END:VTIMEZONE
BEGIN:VEVENT
DTSTART;TZID=America/New_York:20240918T100000
DTEND;TZID=America/New_York:20240918T120000
DTSTAMP:20260424T135916
CREATED:20240603T162935Z
LAST-MODIFIED:20240618T220427Z
UID:10000150-1726653600-1726660800@asdevelop.org
SUMMARY:SILVOPASTURE AT THE FARM AT WILLOW RUN
DESCRIPTION: Join us in Harrisonburg\, VA at The Farm at Willow Run\, where we’ll be discussing Silvopasture systems\, the importance of genetic repositories\, and cooperative land management.  We’ll begin with a short discussion followed by a walking tour and conversation about this unique system.  \n\n\n\n The Farm at Willow Run is a 40-acre parcel owned by\, and adjacent to\, Virginia Mennonite Retirement Community. The goal of the farm is to produce healthy\, sustainably grown food to feed and nourish our local community and provide equitable community access to learn and experience food and farming systems. The silvopasture at Willow Run was installed over the last several years as a part of the Catalyzing Agroforestry Grant Program and is a great opportunity to learn about silvopasture establishment and see a young project.  They’ve got many lessons to share from the fledgling phase of this system. We’ll also discuss the atypical land access model at the farm and the opportunity this has created for community-based agroforestry to thrive. \n\n\n\nThis event is free\, but registration is required. Click this link to register.
URL:https://asdevelop.org/event/silvopasture-at-the-farm-at-willow-run/
CATEGORIES:Agroforestry
END:VEVENT
BEGIN:VEVENT
DTSTART;TZID=America/New_York:20240924T180000
DTEND;TZID=America/New_York:20240924T193000
DTSTAMP:20260424T135916
CREATED:20240610T155019Z
LAST-MODIFIED:20240612T190427Z
UID:10000164-1727200800-1727206200@asdevelop.org
SUMMARY:GYO Workshop: Regenerative Agriculture - Tazewell County
DESCRIPTION:Join us on September 24 (6-7:30 pm) at Tazewell County Public Library (Bluefield Branch) for our Regenerative Agriculture Grow Your Own Workshop. \n\n\n\nRegenerative Agriculture is more relevant now than ever! Join us to learn about not only regenerative agriculture today but also get enveloped in the (actually) fascinating history of agriculture in the United States. Learn how to apply regenerative practices in your own growing space and see more butterflies\, more flowers\, and grow more! \n\n\n\nEmail mbradley@asdevelop.org to reserve your spot.
URL:https://asdevelop.org/event/gyo-workshop-regenerative-agriculture-tazewell-county/
CATEGORIES:Grow Your Own
END:VEVENT
BEGIN:VEVENT
DTSTART;TZID=America/New_York:20240926T180000
DTEND;TZID=America/New_York:20240926T193000
DTSTAMP:20260424T135916
CREATED:20240610T155457Z
LAST-MODIFIED:20240903T162955Z
UID:10000165-1727373600-1727379000@asdevelop.org
SUMMARY:GYO Workshop: Regenerative Agriculture - Washington County
DESCRIPTION:Join us on September 26 (6-7:30 pm) at ASD’s Greenhouse for our Regenerative Agriculture Grow Your Own Workshop. \n\n\n\nWe will talk about the principles of regenerative agriculture along with the history of agriculture and how we got to this point. You will walk away saying\, “It’s all about the soil” for a reason! Regenerative Agriculture is more vital today than it ever has been before. It’s fun\, it’s interesting\, and you can see the difference it makes in no time. \n\n\n\nAre you a birder? We’ll help you see more birds! A hunter? We’ll tell you to clear out that brush so it’s easier! A butterfly enthusiast? You’ll learn how to attract so many butterflies! \n\n\n\nEmail mbradley@asdevelop.org to reserve your spot.
URL:https://asdevelop.org/event/gyo-workshop-regenerative-agriculture-washington-county/
CATEGORIES:Grow Your Own
END:VEVENT
END:VCALENDAR