BEGIN:VCALENDAR
VERSION:2.0
PRODID:-//Appalachian Sustainable Development - ECPv6.15.20//NONSGML v1.0//EN
CALSCALE:GREGORIAN
METHOD:PUBLISH
X-ORIGINAL-URL:https://asdevelop.org
X-WR-CALDESC:Events for Appalachian Sustainable Development
REFRESH-INTERVAL;VALUE=DURATION:PT1H
X-Robots-Tag:noindex
X-PUBLISHED-TTL:PT1H
BEGIN:VTIMEZONE
TZID:America/New_York
BEGIN:DAYLIGHT
TZOFFSETFROM:-0500
TZOFFSETTO:-0400
TZNAME:EDT
DTSTART:20230312T070000
END:DAYLIGHT
BEGIN:STANDARD
TZOFFSETFROM:-0400
TZOFFSETTO:-0500
TZNAME:EST
DTSTART:20231105T060000
END:STANDARD
BEGIN:DAYLIGHT
TZOFFSETFROM:-0500
TZOFFSETTO:-0400
TZNAME:EDT
DTSTART:20240310T070000
END:DAYLIGHT
BEGIN:STANDARD
TZOFFSETFROM:-0400
TZOFFSETTO:-0500
TZNAME:EST
DTSTART:20241103T060000
END:STANDARD
BEGIN:DAYLIGHT
TZOFFSETFROM:-0500
TZOFFSETTO:-0400
TZNAME:EDT
DTSTART:20250309T070000
END:DAYLIGHT
BEGIN:STANDARD
TZOFFSETFROM:-0400
TZOFFSETTO:-0500
TZNAME:EST
DTSTART:20251102T060000
END:STANDARD
END:VTIMEZONE
BEGIN:VEVENT
DTSTART;TZID=America/New_York:20240711T180000
DTEND;TZID=America/New_York:20240711T200000
DTSTAMP:20260420T175308
CREATED:20240605T185302Z
LAST-MODIFIED:20240626T155756Z
UID:10000153-1720720800-1720728000@asdevelop.org
SUMMARY:SUSTAINABLE PRACTICES With JUSTEN DICK
DESCRIPTION:Integrating operations is key to incremental success in farming. Farms aren’t about single product lines\, but about how you can design your operations to support each other and build your assets (and soils) for the long haul. Shift away from extractive farming methods and focus on long-term success.  \n\n\n\nAt Kelly Ridge\, Justen will discuss their experience (both successes and failures) with building synergy in farm operations. Topics under discussion will include livestock (pigs\, sheep\, horses\, chickens)\, alternative feeds\, composting\, pasture maintenance\, kid rearing\, specialty crops (such as hops)\, integrated processing services\, fertigation\, and more. \n\n\n\nThe cost is $10/class or $50/all 8 classes. It is available for free to military veterans\, but also available for free to anyone interested in trading the cost for 8 volunteer hours. \n\n\n\nYou can register here.
URL:https://asdevelop.org/event/sustainable-practices-w-justen-dick/
CATEGORIES:Southwest Virginia Field School
END:VEVENT
BEGIN:VEVENT
DTSTART;TZID=America/New_York:20240717T130000
DTEND;TZID=America/New_York:20240717T150000
DTSTAMP:20260420T175308
CREATED:20240603T161923Z
LAST-MODIFIED:20240618T220428Z
UID:10000149-1721221200-1721228400@asdevelop.org
SUMMARY:FOREST BOTANICALS AND MAPLE SYRUP PRODUCTION AT LAUREL FORK SAPSUCKERS
DESCRIPTION:Laurel Fork Sapsuckers Sugar Camp is tucked away in the western part of Virginia\, high in the Appalachian Mountains at 4\,108 feet. This 600-acre mountain farm was purchased by the family in 1957 and has provided shelter\, heat\, food and decades of outdoor fun and recreation for five generations. The property contains a portion of the headwaters of the Laurel Fork stream\, which is a native brook trout area that flows through the George Washington National Forest. It is also home to a high elevation cove forest\, which contains native red spruce trees.  Forest management and sustainability are extremely important to the family\, who are proud members of the American Tree Farm System\, and were awarded the 2019 Virginia Tree Farm of the Year.   \n\n\n\nThe farm produces maple syrup\, shiitake mushrooms\, ramps\, elderberry and ginseng. Current projects include creating migratory bird habitat through specifically designated timber harvests\, planting non-timber forest products in the understory of more mature trees\, establishing wild leeks (ramps) in wet drainages\, and planting heirloom apple and pear trees to maintain the original fruit orchard.  \n\n\n\nThis event is free\, but registration is required. Click this link to register.
URL:https://asdevelop.org/event/forest-botanicals-and-maple-syrup-production-at-laurel-fork-sapsuckers/
CATEGORIES:Agroforestry
END:VEVENT
BEGIN:VEVENT
DTSTART;TZID=America/New_York:20240718T180000
DTEND;TZID=America/New_York:20240718T193000
DTSTAMP:20260420T175308
CREATED:20240610T005754Z
LAST-MODIFIED:20240610T005758Z
UID:10000160-1721325600-1721331000@asdevelop.org
SUMMARY:GYO Workshop: Heart-Healthy Cooking- Washington County
DESCRIPTION:Join us July 18 (6-7:30 pm) at the ASD Greenhouse for our Heart-Healthy Cooking Grow Your Own Workshop. \n\n\n\nGerontologist Frances Bale will bring some delicious dinner and talk about the effects of what we eat on our bodies – specifically\, on our hearts! We will talk about nutrition in backyard gardening and attendees will leave with some great recipes to try at home (and full bellies). \n\n\n\nEmail mbradley@asdevelop.org to save your spot.
URL:https://asdevelop.org/event/gyo-workshop-heart-healthy-cooking-washington-county/
END:VEVENT
BEGIN:VEVENT
DTSTART;TZID=America/New_York:20240720T083000
DTEND;TZID=America/New_York:20240720T143000
DTSTAMP:20260420T175308
CREATED:20240409T175200Z
LAST-MODIFIED:20240409T212455Z
UID:10000144-1721464200-1721485800@asdevelop.org
SUMMARY:TN Agrability Project/UT Gardens Veterans Horticultural Therapy Workshop
DESCRIPTION:This 6-hour workshop is designed for current military personnel\, veterans and spouses. Research shows that exposure to nature and gardening has been shown to improve mental health outcomes for veterans. This workshop will explore the following:  \n\n\n\n1. Career options for veterans and opportunities to learn about how TN AgrAbility Project can assist veterans.  \n\n\n\n2. Hands-on gardening/horticulture activities that can help assist veterans when starting a career in horticulture/agriculture.  \n\n\n\n3. Opportunities to network with other veterans with similar interests.  \n\n\n\nLearn more and register.
URL:https://asdevelop.org/event/tn-agrability-project-ut-gardens-veterans-horticultural-therapy-workshop/
END:VEVENT
BEGIN:VEVENT
DTSTART;TZID=America/New_York:20240725T180000
DTEND;TZID=America/New_York:20240725T200000
DTSTAMP:20260420T175308
CREATED:20240610T000627Z
LAST-MODIFIED:20240618T220901Z
UID:10000157-1721930400-1721937600@asdevelop.org
SUMMARY:Beekeeping with Steve Payne and Chad Overhold
DESCRIPTION:Begin in the Farm Clubhouse\, where Steve and Chad will describe how to start your own apiary and then move to the apiary and open a hive (extra protective suits are available). The hope is to convince participants that this is hard\, interesting\, lots of fun\, and well worth doing. \n\n\n\nYou will learn about how to connect with other beekeepers\, learn more\, and develop a support team. Steve’s beekeeper and good friend\, Chad\, will assist him. “He knows a lot more than I do\,” says Steve. If you are interested in starting your own hive\, Chad and Steve will gladly assist; however\, you will need to wait until next spring\, when they typically start new hives. \n\n\n\nThe cost is $10/class or $50/all 8 classes. It is available for free to military veterans\, but also available for free to anyone interested in trading the cost for 8 volunteer hours. \n\n\n\nClick here to register.
URL:https://asdevelop.org/event/beekeeping-with-steve-payne-and-chad-overhold/
CATEGORIES:Southwest Virginia Field School
END:VEVENT
BEGIN:VEVENT
DTSTART;TZID=America/New_York:20240730T180000
DTEND;TZID=America/New_York:20240730T193000
DTSTAMP:20260420T175308
CREATED:20240610T010525Z
LAST-MODIFIED:20240610T010529Z
UID:10000161-1722362400-1722367800@asdevelop.org
SUMMARY:GYO Workshop: Heart-Healthy Cooking - Tazewell County
DESCRIPTION:Join us July 30 (6-7:30 pm) at the Tazewell County Public Library (Bluefield Branch) for our Heart-Healthy Cooking Grow Your Own Workshop. \n\n\n\nGerontologist Frances Bale will bring some delicious dinner and talk about the effects of what we eat on our bodies – specifically\, on our hearts! We will talk about nutrition in backyard gardening and attendees will leave with some great recipes to try at home (and full bellies). \n\n\n\nEmail mbradley@asdevelop.org to save your spot.
URL:https://asdevelop.org/event/gyo-workshop-heart-healthy-cooking-tazewell-county/
END:VEVENT
END:VCALENDAR