BEGIN:VCALENDAR
VERSION:2.0
PRODID:-//Appalachian Sustainable Development - ECPv6.15.20//NONSGML v1.0//EN
CALSCALE:GREGORIAN
METHOD:PUBLISH
X-WR-CALNAME:Appalachian Sustainable Development
X-ORIGINAL-URL:https://asdevelop.org
X-WR-CALDESC:Events for Appalachian Sustainable Development
REFRESH-INTERVAL;VALUE=DURATION:PT1H
X-Robots-Tag:noindex
X-PUBLISHED-TTL:PT1H
BEGIN:VTIMEZONE
TZID:America/New_York
BEGIN:DAYLIGHT
TZOFFSETFROM:-0500
TZOFFSETTO:-0400
TZNAME:EDT
DTSTART:20230312T070000
END:DAYLIGHT
BEGIN:STANDARD
TZOFFSETFROM:-0400
TZOFFSETTO:-0500
TZNAME:EST
DTSTART:20231105T060000
END:STANDARD
BEGIN:DAYLIGHT
TZOFFSETFROM:-0500
TZOFFSETTO:-0400
TZNAME:EDT
DTSTART:20240310T070000
END:DAYLIGHT
BEGIN:STANDARD
TZOFFSETFROM:-0400
TZOFFSETTO:-0500
TZNAME:EST
DTSTART:20241103T060000
END:STANDARD
BEGIN:DAYLIGHT
TZOFFSETFROM:-0500
TZOFFSETTO:-0400
TZNAME:EDT
DTSTART:20250309T070000
END:DAYLIGHT
BEGIN:STANDARD
TZOFFSETFROM:-0400
TZOFFSETTO:-0500
TZNAME:EST
DTSTART:20251102T060000
END:STANDARD
END:VTIMEZONE
BEGIN:VEVENT
DTSTART;TZID=America/New_York:20240620T180000
DTEND;TZID=America/New_York:20240620T200000
DTSTAMP:20260421T150701
CREATED:20240605T184003Z
LAST-MODIFIED:20240605T184006Z
UID:10000151-1718906400-1718913600@asdevelop.org
SUMMARY:Management Intensive Grazing with Trevor Hansard
DESCRIPTION:Red Tail Grove is a 10-acre regenerative farm with a focus on multi-species intensive grazing and market gardening. They are entering year two of the business\, and year three of farming. Grass-fed lamb\, organic eggs\, various veg\, and some cut flowers. Their products are produced utilizing intensively managed grazing practices that produce high-quality meat and eggs\, while simultaneously improving the soil and pasture vegetation.  \n\n\n\nIntensive Grazing also dramatically reduces overhead costs (permanent fencing\, tractors\, meds\, feed\, etc. all unnecessary)\, improves soil/plants over time (which leads to increased stocking rates)\, promotes pasture diversity (aesthetically attractive\, good for native birds/insect species). \n\n\n\nThey sell their products direct to consumer\, to businesses/restaurants\, and will be at the Abingdon Farmer’s Market in 2023 with greatly expanded veg/flower production going into the Spring. Additionally\, Red Trail Grove will have egg-producing hens the entire year (started them as chicks last spring)\, and should actually have lamb in a couple months (which will provide their first animals to sale). \n\n\n\nThe cost is $10/class or $50/all 8 classes. It is available for free to military veterans\, but also available for free to anyone interested in trading the cost for 8 volunteer hours. \n\n\n\nClick here to register.
URL:https://asdevelop.org/event/management-intensive-grazing-with-trevor-hansard/
END:VEVENT
BEGIN:VEVENT
DTSTART;TZID=America/New_York:20240621T160000
DTEND;TZID=America/New_York:20240621T180000
DTSTAMP:20260421T150701
CREATED:20240605T184355Z
LAST-MODIFIED:20240624T182622Z
UID:10000152-1718985600-1718992800@asdevelop.org
SUMMARY:Tazewell Garden Party @ the Growing Together Community Garden
DESCRIPTION:Stop by the Growing Together Community Garden on June 21 from 4-6 for a bit of food\, fun\, and games for everyone. We’re hosting this event to share all the programs and services ASD offers to farmers and gardeners of any level\, and to the community through training\, education\, and food donations. Tour the garden\, stop by our info tables\, visit with other community members\, and play a few games.  \n\n\n\nYou can RSVP on our Facebook event here.
URL:https://asdevelop.org/event/tazewell-garden-party-the-growing-together-community-garden/
END:VEVENT
BEGIN:VEVENT
DTSTART;TZID=America/New_York:20240624T180000
DTEND;TZID=America/New_York:20240624T200000
DTSTAMP:20260421T150701
CREATED:20240605T191252Z
LAST-MODIFIED:20240605T191254Z
UID:10000155-1719252000-1719259200@asdevelop.org
SUMMARY:GYO Workshop: Food Preservation - Tazewell County
DESCRIPTION:Join us June 24 (6 pm) at the Tazewell County Public Library (Bluefield Branch) for our Food Preservation Grow Your Own Workshop. \n\n\n\nAssociate Professor Ryan Dorkoski will join us for an exciting evening about… pickles! Ryan is a pro when it comes to fermentation. He will explain the science behind it\, and provide some samples of his own creations. He will even help us make our own pickles to take home! \n\n\n\nEmail mbradley@asdevelop.org to save your spot.
URL:https://asdevelop.org/event/gyo-workshop-food-preservation-tazewell-county/
END:VEVENT
BEGIN:VEVENT
DTSTART;TZID=America/New_York:20240627T100000
DTEND;TZID=America/New_York:20240627T120000
DTSTAMP:20260421T150701
CREATED:20240603T161452Z
LAST-MODIFIED:20240618T221829Z
UID:10000148-1719482400-1719489600@asdevelop.org
SUMMARY:FOREST FARMING AT SHADE TREE VALLEY
DESCRIPTION:Join us on ​Thursday\, June ​27th at Shade Tree Valley\, a small family forest farm outside of Broadway\, VA. Shade Tree focuses on forest-grown products\, ranging from slow-growing woodland botanicals to fire starters and smoke blocks for the grill. The Powers family will give us a site tour and discuss their methods for establishing and growing woodland botanicals\, including goldenseal\, ramps\, and ginseng. We’ll also discuss their decision to focus on Agroforestry in general and how the grilling and smoking product line has come about and what it takes to manage that in the woodland. Bring sturdy shoes and a “dare to be different” attitude as we think outside the box and enjoy a morning together in the woods.  \n\n\n\nThis workshop is free but registration is required. Click this link to register.
URL:https://asdevelop.org/event/forest-farming-at-shade-tree-valley/
CATEGORIES:Agroforestry
END:VEVENT
BEGIN:VEVENT
DTSTART;TZID=America/New_York:20240627T170000
DTEND;TZID=America/New_York:20240627T200000
DTSTAMP:20260421T150701
CREATED:20240605T192035Z
LAST-MODIFIED:20240610T010656Z
UID:10000156-1719507600-1719518400@asdevelop.org
SUMMARY:GYO Workshop: Food Preservation - Washington County
DESCRIPTION:Join us June 27 (5-8 pm) at Pleasant View Methodist Church\, for our Food Preservation Grow Your Own Workshop. \n\n\n\nAndrea Haubner from Virginia Cooperative Extension Services will teach us how to can preserves and vegetables. \n\n\n\nSpace is limited in the kitchen area (to make and take home the preserves) – it is reserved for Grow Your Own participants. There is space for others to come and learn\, though! Email mbradley@asdevelop.org to save your spot.
URL:https://asdevelop.org/event/gyo-workshop-food-preservation-washington-county/
END:VEVENT
END:VCALENDAR