BEGIN:VCALENDAR
VERSION:2.0
PRODID:-//Appalachian Sustainable Development - ECPv6.15.20//NONSGML v1.0//EN
CALSCALE:GREGORIAN
METHOD:PUBLISH
X-WR-CALNAME:Appalachian Sustainable Development
X-ORIGINAL-URL:https://asdevelop.org
X-WR-CALDESC:Events for Appalachian Sustainable Development
REFRESH-INTERVAL;VALUE=DURATION:PT1H
X-Robots-Tag:noindex
X-PUBLISHED-TTL:PT1H
BEGIN:VTIMEZONE
TZID:America/New_York
BEGIN:DAYLIGHT
TZOFFSETFROM:-0500
TZOFFSETTO:-0400
TZNAME:EDT
DTSTART:20250309T070000
END:DAYLIGHT
BEGIN:STANDARD
TZOFFSETFROM:-0400
TZOFFSETTO:-0500
TZNAME:EST
DTSTART:20251102T060000
END:STANDARD
BEGIN:DAYLIGHT
TZOFFSETFROM:-0500
TZOFFSETTO:-0400
TZNAME:EDT
DTSTART:20260308T070000
END:DAYLIGHT
BEGIN:STANDARD
TZOFFSETFROM:-0400
TZOFFSETTO:-0500
TZNAME:EST
DTSTART:20261101T060000
END:STANDARD
BEGIN:DAYLIGHT
TZOFFSETFROM:-0500
TZOFFSETTO:-0400
TZNAME:EDT
DTSTART:20270314T070000
END:DAYLIGHT
BEGIN:STANDARD
TZOFFSETFROM:-0400
TZOFFSETTO:-0500
TZNAME:EST
DTSTART:20271107T060000
END:STANDARD
END:VTIMEZONE
BEGIN:VEVENT
DTSTART;TZID=America/New_York:20260520T180000
DTEND;TZID=America/New_York:20260520T200000
DTSTAMP:20260425T124639
CREATED:20250724T204213Z
LAST-MODIFIED:20250728T134838Z
UID:10000220-1779300000-1779307200@asdevelop.org
SUMMARY:ASD Veteran Coalition Meeting
DESCRIPTION:Are you a military veteran? If so\, we’d love to have you attend our ASD Veteran Coalition meeting tonight at 6 pm. These recur every 3rd Wednesday – why not be a regular?  \n\n\n\nLocation:  \n\n\n\nThese meetings are generously hosted free of charge by Michael Waltrip Brewing\, 221 Moore St\, Bristol\, VA 24201. Meetings are held in the room upstairs. \n\n\n\nGoal:  \n\n\n\nStrengthen the veteran farming community by fostering meaningful connections\, sharing practical knowledge and resources\, and identifying collaborative opportunities that support the success and sustainability of veteran-led agricultural operations. \n\n\n\nAwesome Extras: \n\n\n\n\nFree appetizers and soft drinks\n\n\n\nGreat company!\n\n\n\nCheck out our programs and services for veterans – here
URL:https://asdevelop.org/event/asd-veteran-coalition-meeting/2026-05-20/
LOCATION:Michael Waltrip Brewing\, 221 Moore Street\, Bristol\, Virginia\, 24202
CATEGORIES:Veteran Outreach
END:VEVENT
BEGIN:VEVENT
DTSTART;TZID=America/New_York:20260601T090000
DTEND;TZID=America/New_York:20260601T130000
DTSTAMP:20260425T124639
CREATED:20260425T110557Z
LAST-MODIFIED:20260425T110928Z
UID:10000229-1780304400-1780318800@asdevelop.org
SUMMARY:AGROFORESTRY FARM TOUR SERIES 2026: GOAT SILVOPASTURE WITH KATHRYN HUGHES OF ADAPTIVE LIFE FARM
DESCRIPTION:Small Ruminant Land Management as a Path to Native Forest Restoration \n\n\n\nKathryn and Neil Hughes own and operate a 10-acre forest farm in Madison County\, VA (between Charlottesville and Culpeper)\, where they have been reforesting traditional farmland in the foothills of the Blue Ridge Mountains since 2019. Kathryn teaches writing and studies disability rhetoric at James Madison University\, and Neil is a neuro-educator and founder of N-SCP\, an assessment and training company based on Narrative Medicine. \n\n\n\nTheir farming system centers on using animals to balance land management needs with small-scale farming imperatives. They grow and sell native plants\, and also breed award-winning dairy goats – both of which they sell through their website. Tour topics will cover native plant production\, NRCS cost-share projects\, management of conservation areas\, and lessons learned in management of pastured poultry and small ruminants. \n\n\n\nThis event will include a walking tour of their high tunnel\, native plant nursery (both woody and herbaceous species)\, their conserved riparian buffer and wetland\, an American Chestnut planting\, an overview of their grazing paddocks\, and an optional hands-on activity after lunch. \n\n\n\nThis tour is supported in partnership with the Friends of the Rappahannock. \n\n\n\nThis event is Free\, but registration is required. (This tour has a limited capacity\, so please be considerate; only register if you definitely intend to attend.) \n\n\n\nRegister here.
URL:https://asdevelop.org/event/agroforestry-farm-tour-series-2026-goat-silvopasture-with-kathryn-hughes-of-adaptive-life-farm/
LOCATION:Virginia
CATEGORIES:Agroforestry
END:VEVENT
BEGIN:VEVENT
DTSTART;TZID=America/New_York:20260617T180000
DTEND;TZID=America/New_York:20260617T200000
DTSTAMP:20260425T124639
CREATED:20250724T204213Z
LAST-MODIFIED:20250728T134838Z
UID:10000221-1781719200-1781726400@asdevelop.org
SUMMARY:ASD Veteran Coalition Meeting
DESCRIPTION:Are you a military veteran? If so\, we’d love to have you attend our ASD Veteran Coalition meeting tonight at 6 pm. These recur every 3rd Wednesday – why not be a regular?  \n\n\n\nLocation:  \n\n\n\nThese meetings are generously hosted free of charge by Michael Waltrip Brewing\, 221 Moore St\, Bristol\, VA 24201. Meetings are held in the room upstairs. \n\n\n\nGoal:  \n\n\n\nStrengthen the veteran farming community by fostering meaningful connections\, sharing practical knowledge and resources\, and identifying collaborative opportunities that support the success and sustainability of veteran-led agricultural operations. \n\n\n\nAwesome Extras: \n\n\n\n\nFree appetizers and soft drinks\n\n\n\nGreat company!\n\n\n\nCheck out our programs and services for veterans – here
URL:https://asdevelop.org/event/asd-veteran-coalition-meeting/2026-06-17/
LOCATION:Michael Waltrip Brewing\, 221 Moore Street\, Bristol\, Virginia\, 24202
CATEGORIES:Veteran Outreach
END:VEVENT
BEGIN:VEVENT
DTSTART;TZID=America/New_York:20260715T180000
DTEND;TZID=America/New_York:20260715T200000
DTSTAMP:20260425T124639
CREATED:20250724T204213Z
LAST-MODIFIED:20250728T134838Z
UID:10000222-1784138400-1784145600@asdevelop.org
SUMMARY:ASD Veteran Coalition Meeting
DESCRIPTION:Are you a military veteran? If so\, we’d love to have you attend our ASD Veteran Coalition meeting tonight at 6 pm. These recur every 3rd Wednesday – why not be a regular?  \n\n\n\nLocation:  \n\n\n\nThese meetings are generously hosted free of charge by Michael Waltrip Brewing\, 221 Moore St\, Bristol\, VA 24201. Meetings are held in the room upstairs. \n\n\n\nGoal:  \n\n\n\nStrengthen the veteran farming community by fostering meaningful connections\, sharing practical knowledge and resources\, and identifying collaborative opportunities that support the success and sustainability of veteran-led agricultural operations. \n\n\n\nAwesome Extras: \n\n\n\n\nFree appetizers and soft drinks\n\n\n\nGreat company!\n\n\n\nCheck out our programs and services for veterans – here
URL:https://asdevelop.org/event/asd-veteran-coalition-meeting/2026-07-15/
LOCATION:Michael Waltrip Brewing\, 221 Moore Street\, Bristol\, Virginia\, 24202
CATEGORIES:Veteran Outreach
END:VEVENT
BEGIN:VEVENT
DTSTART;TZID=America/New_York:20260819T180000
DTEND;TZID=America/New_York:20260819T200000
DTSTAMP:20260425T124639
CREATED:20250724T204213Z
LAST-MODIFIED:20250728T134838Z
UID:10000223-1787162400-1787169600@asdevelop.org
SUMMARY:ASD Veteran Coalition Meeting
DESCRIPTION:Are you a military veteran? If so\, we’d love to have you attend our ASD Veteran Coalition meeting tonight at 6 pm. These recur every 3rd Wednesday – why not be a regular?  \n\n\n\nLocation:  \n\n\n\nThese meetings are generously hosted free of charge by Michael Waltrip Brewing\, 221 Moore St\, Bristol\, VA 24201. Meetings are held in the room upstairs. \n\n\n\nGoal:  \n\n\n\nStrengthen the veteran farming community by fostering meaningful connections\, sharing practical knowledge and resources\, and identifying collaborative opportunities that support the success and sustainability of veteran-led agricultural operations. \n\n\n\nAwesome Extras: \n\n\n\n\nFree appetizers and soft drinks\n\n\n\nGreat company!\n\n\n\nCheck out our programs and services for veterans – here
URL:https://asdevelop.org/event/asd-veteran-coalition-meeting/2026-08-19/
LOCATION:Michael Waltrip Brewing\, 221 Moore Street\, Bristol\, Virginia\, 24202
CATEGORIES:Veteran Outreach
END:VEVENT
END:VCALENDAR