BEGIN:VCALENDAR
VERSION:2.0
PRODID:-//Appalachian Sustainable Development - ECPv6.15.20//NONSGML v1.0//EN
CALSCALE:GREGORIAN
METHOD:PUBLISH
X-WR-CALNAME:Appalachian Sustainable Development
X-ORIGINAL-URL:https://asdevelop.org
X-WR-CALDESC:Events for Appalachian Sustainable Development
REFRESH-INTERVAL;VALUE=DURATION:PT1H
X-Robots-Tag:noindex
X-PUBLISHED-TTL:PT1H
BEGIN:VTIMEZONE
TZID:America/New_York
BEGIN:DAYLIGHT
TZOFFSETFROM:-0500
TZOFFSETTO:-0400
TZNAME:EDT
DTSTART:20250309T070000
END:DAYLIGHT
BEGIN:STANDARD
TZOFFSETFROM:-0400
TZOFFSETTO:-0500
TZNAME:EST
DTSTART:20251102T060000
END:STANDARD
BEGIN:DAYLIGHT
TZOFFSETFROM:-0500
TZOFFSETTO:-0400
TZNAME:EDT
DTSTART:20260308T070000
END:DAYLIGHT
BEGIN:STANDARD
TZOFFSETFROM:-0400
TZOFFSETTO:-0500
TZNAME:EST
DTSTART:20261101T060000
END:STANDARD
BEGIN:DAYLIGHT
TZOFFSETFROM:-0500
TZOFFSETTO:-0400
TZNAME:EDT
DTSTART:20270314T070000
END:DAYLIGHT
BEGIN:STANDARD
TZOFFSETFROM:-0400
TZOFFSETTO:-0500
TZNAME:EST
DTSTART:20271107T060000
END:STANDARD
END:VTIMEZONE
BEGIN:VEVENT
DTSTART;TZID=America/New_York:20260502T090000
DTEND;TZID=America/New_York:20260502T130000
DTSTAMP:20260420T180002
CREATED:20260420T131530Z
LAST-MODIFIED:20260420T131535Z
UID:10000225-1777712400-1777726800@asdevelop.org
SUMMARY:AGROFORESTRY FARM TOUR SERIES 2026: DIVERSIFIED SILVOPASTURE WITH CALEB RAE OF SOLACE FARM
DESCRIPTION:Multi-Species Silvopasture on a Restored Strip Mine Site! \n\n\n\n*Please note that this event location is on central time! \n\n\n\nJoin us for our first farm tour of the year\, as we tour Solace Farm in Coalmont\, TN (about an hour northwest of Chattanooga).  Solace Farm is a diverse livestock operation – producing meats\, garlic\, and value-added products as well – all on top of a restored strip mine site! Located in the middle of several thousand acres of formerly strip mined land\, Caleb and his wife bought the farm in 2008\, with aims to use livestock and good farming practices to help restore the land. \n\n\n\nCurrently\, they graze with a multi-species herd (or “flerd”) that generates income through sales of grass-fed beef\, lamb\, and goat meat. The animals also generate products (e.g. goat milk\, etc.) that form the basis of a body-care product line. They sell these products (as well as garlic and a few other things) through local farmers markets\, as well as online through their website. Their body care line is also sold on Etsy. \n\n\n\nDuring recent years\, they’ve been working to plant additional trees for foraging\, fodder production\, and shelter. The trees form the basis of a “savannah” system that provides holistic benefits for their animals and the soil. Come and learn how Caleb and his family have leveraged the power of livestock and soil health principles to repair and renovate this formerly degraded land. \n\n\n\nThis tour is supported in partnership with the Southeast Tennessee Young Farmers Coalition. Thanks to them\, childcare during the tour is available\, upon request! \n\n\n\nThis event is Free\, but registration is required. (This tour has a limited capacity\, so please be considerate; only register if you definitely intend to attend.) \n\n\n\nREGISTER HERE.
URL:https://asdevelop.org/event/agroforestry-farm-tour-series-2026-diversified-silvopasture-with-caleb-rae-of-solace-farm/
CATEGORIES:Agroforestry
END:VEVENT
END:VCALENDAR