BEGIN:VCALENDAR
VERSION:2.0
PRODID:-//Appalachian Sustainable Development - ECPv6.15.20//NONSGML v1.0//EN
CALSCALE:GREGORIAN
METHOD:PUBLISH
X-WR-CALNAME:Appalachian Sustainable Development
X-ORIGINAL-URL:https://asdevelop.org
X-WR-CALDESC:Events for Appalachian Sustainable Development
REFRESH-INTERVAL;VALUE=DURATION:PT1H
X-Robots-Tag:noindex
X-PUBLISHED-TTL:PT1H
BEGIN:VTIMEZONE
TZID:America/New_York
BEGIN:DAYLIGHT
TZOFFSETFROM:-0500
TZOFFSETTO:-0400
TZNAME:EDT
DTSTART:20230312T070000
END:DAYLIGHT
BEGIN:STANDARD
TZOFFSETFROM:-0400
TZOFFSETTO:-0500
TZNAME:EST
DTSTART:20231105T060000
END:STANDARD
BEGIN:DAYLIGHT
TZOFFSETFROM:-0500
TZOFFSETTO:-0400
TZNAME:EDT
DTSTART:20240310T070000
END:DAYLIGHT
BEGIN:STANDARD
TZOFFSETFROM:-0400
TZOFFSETTO:-0500
TZNAME:EST
DTSTART:20241103T060000
END:STANDARD
BEGIN:DAYLIGHT
TZOFFSETFROM:-0500
TZOFFSETTO:-0400
TZNAME:EDT
DTSTART:20250309T070000
END:DAYLIGHT
BEGIN:STANDARD
TZOFFSETFROM:-0400
TZOFFSETTO:-0500
TZNAME:EST
DTSTART:20251102T060000
END:STANDARD
END:VTIMEZONE
BEGIN:VEVENT
DTSTART;TZID=America/New_York:20240808T180000
DTEND;TZID=America/New_York:20240808T200000
DTSTAMP:20260420T233301
CREATED:20240610T001207Z
LAST-MODIFIED:20240618T220901Z
UID:10000158-1723140000-1723147200@asdevelop.org
SUMMARY:Apple Orchards with Tom McMullen
DESCRIPTION:Visit Tumbling Creek Cider Company’s expanding orchards to learn about cider apple varieties\, propagation\, planting\, maintenance\, and how to re-establish the apple industry in our region. \n\n\n\nWe’ll tour the Old Orchard where we are rejuvenating 50-year-old trees and have planted many 3-year-old trees\, the New Orchard as a high-density trellised system\, and the tree nursery. The tour will end at the cider barn to sample some of our hard cider. \n\n\n\nThe cost is $10/class or $50/all 8 classes. It is available for free to military veterans\, but also available for free to anyone interested in trading the cost for 8 volunteer hours. For more information click the ticket link above. \n\n\n\nClick here to register.
URL:https://asdevelop.org/event/apple-orchards-with-tom-mcmullen/
CATEGORIES:Southwest Virginia Field School
END:VEVENT
END:VCALENDAR