BEGIN:VCALENDAR
VERSION:2.0
PRODID:-//Appalachian Sustainable Development - ECPv6.15.20//NONSGML v1.0//EN
CALSCALE:GREGORIAN
METHOD:PUBLISH
X-WR-CALNAME:Appalachian Sustainable Development
X-ORIGINAL-URL:https://asdevelop.org
X-WR-CALDESC:Events for Appalachian Sustainable Development
REFRESH-INTERVAL;VALUE=DURATION:PT1H
X-Robots-Tag:noindex
X-PUBLISHED-TTL:PT1H
BEGIN:VTIMEZONE
TZID:America/New_York
BEGIN:DAYLIGHT
TZOFFSETFROM:-0500
TZOFFSETTO:-0400
TZNAME:EDT
DTSTART:20230312T070000
END:DAYLIGHT
BEGIN:STANDARD
TZOFFSETFROM:-0400
TZOFFSETTO:-0500
TZNAME:EST
DTSTART:20231105T060000
END:STANDARD
BEGIN:DAYLIGHT
TZOFFSETFROM:-0500
TZOFFSETTO:-0400
TZNAME:EDT
DTSTART:20240310T070000
END:DAYLIGHT
BEGIN:STANDARD
TZOFFSETFROM:-0400
TZOFFSETTO:-0500
TZNAME:EST
DTSTART:20241103T060000
END:STANDARD
BEGIN:DAYLIGHT
TZOFFSETFROM:-0500
TZOFFSETTO:-0400
TZNAME:EDT
DTSTART:20250309T070000
END:DAYLIGHT
BEGIN:STANDARD
TZOFFSETFROM:-0400
TZOFFSETTO:-0500
TZNAME:EST
DTSTART:20251102T060000
END:STANDARD
END:VTIMEZONE
BEGIN:VEVENT
DTSTART;TZID=America/New_York:20240720T083000
DTEND;TZID=America/New_York:20240720T143000
DTSTAMP:20260422T095906
CREATED:20240409T175200Z
LAST-MODIFIED:20240409T212455Z
UID:10000144-1721464200-1721485800@asdevelop.org
SUMMARY:TN Agrability Project/UT Gardens Veterans Horticultural Therapy Workshop
DESCRIPTION:This 6-hour workshop is designed for current military personnel\, veterans and spouses. Research shows that exposure to nature and gardening has been shown to improve mental health outcomes for veterans. This workshop will explore the following:  \n\n\n\n1. Career options for veterans and opportunities to learn about how TN AgrAbility Project can assist veterans.  \n\n\n\n2. Hands-on gardening/horticulture activities that can help assist veterans when starting a career in horticulture/agriculture.  \n\n\n\n3. Opportunities to network with other veterans with similar interests.  \n\n\n\nLearn more and register.
URL:https://asdevelop.org/event/tn-agrability-project-ut-gardens-veterans-horticultural-therapy-workshop/
END:VEVENT
END:VCALENDAR