BEGIN:VCALENDAR
VERSION:2.0
PRODID:-//Appalachian Sustainable Development - ECPv6.15.20//NONSGML v1.0//EN
CALSCALE:GREGORIAN
METHOD:PUBLISH
X-WR-CALNAME:Appalachian Sustainable Development
X-ORIGINAL-URL:https://asdevelop.org
X-WR-CALDESC:Events for Appalachian Sustainable Development
REFRESH-INTERVAL;VALUE=DURATION:PT1H
X-Robots-Tag:noindex
X-PUBLISHED-TTL:PT1H
BEGIN:VTIMEZONE
TZID:America/New_York
BEGIN:DAYLIGHT
TZOFFSETFROM:-0500
TZOFFSETTO:-0400
TZNAME:EDT
DTSTART:20230312T070000
END:DAYLIGHT
BEGIN:STANDARD
TZOFFSETFROM:-0400
TZOFFSETTO:-0500
TZNAME:EST
DTSTART:20231105T060000
END:STANDARD
BEGIN:DAYLIGHT
TZOFFSETFROM:-0500
TZOFFSETTO:-0400
TZNAME:EDT
DTSTART:20240310T070000
END:DAYLIGHT
BEGIN:STANDARD
TZOFFSETFROM:-0400
TZOFFSETTO:-0500
TZNAME:EST
DTSTART:20241103T060000
END:STANDARD
BEGIN:DAYLIGHT
TZOFFSETFROM:-0500
TZOFFSETTO:-0400
TZNAME:EDT
DTSTART:20250309T070000
END:DAYLIGHT
BEGIN:STANDARD
TZOFFSETFROM:-0400
TZOFFSETTO:-0500
TZNAME:EST
DTSTART:20251102T060000
END:STANDARD
END:VTIMEZONE
BEGIN:VEVENT
DTSTART;TZID=America/New_York:20240506T100000
DTEND;TZID=America/New_York:20240514T180000
DTSTAMP:20260419T114810
CREATED:20240429T204156Z
LAST-MODIFIED:20240429T204200Z
UID:10000145-1714989600-1715709600@asdevelop.org
SUMMARY:Plant Sale - ASD's Late Bloomers Greenhouse
DESCRIPTION:We’re having a plant sale! The ASD “Late Bloomers” Greenhouse will be open 10 am – 6 pm the week of May 6 – every day EXCEPT Wednesday\, 8th – plus on May 13 & 14. We have 300+ trays (that’s more than 10k seeds) of veggie\, herb\, and flower starts\, priced at $2 per soil block. Address: 17444 Singingwood Lane in Bristol\, VA. All proceeds from our Late Bloomers social enterprise go back into Groundwork\, our workforce development program.
URL:https://asdevelop.org/event/plant-sale-asds-late-bloomers-greenhouse/
LOCATION:ASD Greenhouse\, 17444 Singingwood Lane\, Bristol\, Virginia\, 24202\, United States
END:VEVENT
BEGIN:VEVENT
DTSTART;TZID=America/New_York:20240506T180000
DTEND;TZID=America/New_York:20240506T200000
DTSTAMP:20260419T114810
CREATED:20231213T092549Z
LAST-MODIFIED:20231213T092833Z
UID:10000135-1715018400-1715025600@asdevelop.org
SUMMARY:Farm to Table Supper with The Pakalachian and TC3 @ Kelly Ridge Farms\, LLC
DESCRIPTION:A limited number of guests will experience a three-course\, locally sourced seasonal meal prepared and served family style by Katlin and Mohsin Kazmi of The Pakalachian. Hosted by Kelly Ridge Farms\, LLC\, guests will enjoy a unique\, curated menu that features items not currently on the menu\, perfectly paired with Tumbling Creek Ciders (pressed and fermented on the farm). Depending on the availability of local ingredients\, the final menu will be announced in early 2024. This intimate dining experience will heighten your senses in every way. Click here for tickets. \n\n\n\nKatlin and Mohsin will source seasonal ingredients to prepare and serve a family style meal highlighting the best in Springtime local faire. Upon arrival\, guests can mingle and learn more about the farm. Cider will be available for purchase before and after the meal. Supper is sure to please and also inspire with a mix of vibrant dishes that blend culinary elements of both Southwest Virginia and South Asia. Each course is expertly paired with locally sourced Tumbling Creek Ciders. Seating is first come-first serve. Layers and sturdy shoes are suggested. \n\n\n\nGuests who arrive by 5:00 pm are invited to enjoy a special tour of the orchard\, conducted by Tumbling Creek Cider Company co-owners. \n\n\n\nTumbling Creek Cider Company was formed by four friends in 2018\, with a mission of creating high-quality apple-to-bottle cider focused on our local region and community here in Southwest Virginia. With a focus on hand crafted cider\, they built a production facility\, and then started grafting cider apple trees and building the orchard. In 2020\, they opened their tasting room in Abingdon\, VA. Learn more at: https://tumblingcreekcider.com. \n\n\n\nThe Pakalachian food truck based out of Abingdon\, Virginia\, strives to creatively blend the culinary elements of both Southwest Virginia and South Asia to produce unique\, vibrant dishes that benefit local Appalachia. Owned and operated by Mohsin and Katlin Kazmi\, this food truck is anything but ordinary. Each dish is curated to combine the comforting elements of the foods Katlin and Mohsin grew up with as kids. Learn more: https://www.thepakalachian.com. \n\n\n\n100% of all proceeds benefit Appalachian Sustainable Development.
URL:https://asdevelop.org/event/29963/
LOCATION:Kelly Ridge Farms\, 30558 Old Saltworks Road\, Meadowview\, Virginia\, United States
CATEGORIES:ASD Fundraisers
END:VEVENT
END:VCALENDAR